BEGIN:VCALENDAR
VERSION:2.0
PRODID:-//Franck Linol - ECPv6.15.15//NONSGML v1.0//EN
CALSCALE:GREGORIAN
METHOD:PUBLISH
X-WR-CALNAME:Franck Linol
X-ORIGINAL-URL:https://francklinol.com
X-WR-CALDESC:Évènements pour Franck Linol
REFRESH-INTERVAL;VALUE=DURATION:PT1H
X-Robots-Tag:noindex
X-PUBLISHED-TTL:PT1H
BEGIN:VTIMEZONE
TZID:Europe/Paris
BEGIN:DAYLIGHT
TZOFFSETFROM:+0100
TZOFFSETTO:+0200
TZNAME:CEST
DTSTART:20240331T010000
END:DAYLIGHT
BEGIN:STANDARD
TZOFFSETFROM:+0200
TZOFFSETTO:+0100
TZNAME:CET
DTSTART:20241027T010000
END:STANDARD
BEGIN:DAYLIGHT
TZOFFSETFROM:+0100
TZOFFSETTO:+0200
TZNAME:CEST
DTSTART:20250330T010000
END:DAYLIGHT
BEGIN:STANDARD
TZOFFSETFROM:+0200
TZOFFSETTO:+0100
TZNAME:CET
DTSTART:20251026T010000
END:STANDARD
BEGIN:DAYLIGHT
TZOFFSETFROM:+0100
TZOFFSETTO:+0200
TZNAME:CEST
DTSTART:20260329T010000
END:DAYLIGHT
BEGIN:STANDARD
TZOFFSETFROM:+0200
TZOFFSETTO:+0100
TZNAME:CET
DTSTART:20261025T010000
END:STANDARD
END:VTIMEZONE
BEGIN:VEVENT
DTSTART;TZID=Europe/Paris:20250406T100000
DTEND;TZID=Europe/Paris:20250406T173000
DTSTAMP:20260425T220112
CREATED:20250319T213648Z
LAST-MODIFIED:20250319T214742Z
UID:5666-1743933600-1743960600@francklinol.com
SUMMARY:Salon du Livre de Chaptelat (87)
DESCRIPTION:Chap’îtres en Fête\, le Salon du Livre de Chaptelat (87)\nRendez-vous pour une nouvelle édition de Chap’îtres en Fête\, le Salon du Livre de Chaptelat.\nCette année\, le thème est « littérature et sport ». \nSous la Halle\, un florilège de genres littéraires\, pour contenter petits et grands. Parmi les 35 auteur(e)s invités\, Carène Ponte et Anny Duperey. \nDes lectures seront proposées aux enfants par des bénévoles de l’association Lire et faire lire\, et une équipe de Cultura Limoges animera des ateliers créatifs. \nDe 10 h à 12 h 30 et de 14 h à 17 h 30\, sous la halle aux sports de Chaptelat.
URL:https://francklinol.com/evenement/salon-du-livre-de-chaptelat-87
LOCATION:CHAPTELAT\, CHAPTELAT\, 87270\, France
ATTACH;FMTTYPE=image/jpeg:https://francklinol.com/wp-content/uploads/2025/03/Chaptelat-2025-Chapitres-en-fete.jpg
END:VEVENT
BEGIN:VEVENT
DTSTART;TZID=Europe/Paris:20250412T140000
DTEND;TZID=Europe/Paris:20250412T180000
DTSTAMP:20260425T220112
CREATED:20250408T214726Z
LAST-MODIFIED:20250408T214726Z
UID:5690-1744466400-1744480800@francklinol.com
SUMMARY:Rencontres dédicaces à La Souterraine (23)
DESCRIPTION:Ambiance Polar à La Souterraine\, avec Jean Alambre\, Rémy Lasource et Franck Linol. \nUne après-midi de rencontres dédicaces à l’Espace culturel E.Leclerc de La Souterraine. \nMystère en Creuse – La bête de Lotharet de Jean Alambre\,  \nProfanations à Limoges – Le halo des tombes de Rémy Lasource\, \nL’homme qui voulait devenir un assassin de Franck Linol. \nAux éditions La Geste. \n \n  \n  \n 
URL:https://francklinol.com/evenement/rencontres-dedicaces-a-la-souterraine-23
LOCATION:LA SOUTERRAINE Espace culturel E.Leclerc\, Avenue Jean Jaurès\, La Souterraine\, 23300\, France
ATTACH;FMTTYPE=image/jpeg:https://francklinol.com/wp-content/uploads/2025/04/La-Souterraine-2025_04_12.jpg
END:VEVENT
END:VCALENDAR