BEGIN:VCALENDAR
VERSION:2.0
PRODID:-//Franck Linol - ECPv6.15.15//NONSGML v1.0//EN
CALSCALE:GREGORIAN
METHOD:PUBLISH
X-WR-CALNAME:Franck Linol
X-ORIGINAL-URL:https://francklinol.com
X-WR-CALDESC:Évènements pour Franck Linol
REFRESH-INTERVAL;VALUE=DURATION:PT1H
X-Robots-Tag:noindex
X-PUBLISHED-TTL:PT1H
BEGIN:VTIMEZONE
TZID:Europe/Paris
BEGIN:DAYLIGHT
TZOFFSETFROM:+0100
TZOFFSETTO:+0200
TZNAME:CEST
DTSTART:20250330T010000
END:DAYLIGHT
BEGIN:STANDARD
TZOFFSETFROM:+0200
TZOFFSETTO:+0100
TZNAME:CET
DTSTART:20251026T010000
END:STANDARD
BEGIN:DAYLIGHT
TZOFFSETFROM:+0100
TZOFFSETTO:+0200
TZNAME:CEST
DTSTART:20260329T010000
END:DAYLIGHT
BEGIN:STANDARD
TZOFFSETFROM:+0200
TZOFFSETTO:+0100
TZNAME:CET
DTSTART:20261025T010000
END:STANDARD
BEGIN:DAYLIGHT
TZOFFSETFROM:+0100
TZOFFSETTO:+0200
TZNAME:CEST
DTSTART:20270328T010000
END:DAYLIGHT
BEGIN:STANDARD
TZOFFSETFROM:+0200
TZOFFSETTO:+0100
TZNAME:CET
DTSTART:20271031T010000
END:STANDARD
END:VTIMEZONE
BEGIN:VEVENT
DTSTART;TZID=Europe/Paris:20260321T100000
DTEND;TZID=Europe/Paris:20260321T190000
DTSTAMP:20260421T105553
CREATED:20260223T211248Z
LAST-MODIFIED:20260225T211216Z
UID:5757-1774087200-1774119600@francklinol.com
SUMMARY:Rencontre-dédicace au Super U Labussière Limoges
DESCRIPTION:Rencontre-dédicace au U Labussière à Limoges.\nVenez rencontrer Franck Linol au Super U Labussière Limoges (à deux pas du Q.G. de l’inspecteur Dumontel;) à l’occasion de la sortie de Sœurs de sang\, nouvel opus des enquêtes de l’inspecteur Dumontel. Soeurs de sang\, éditions La Geste\, 2026 \n \n  \n  \n  \n  \n  \n  \n  \n  \n  \n« Soeurs de sang »\, éditions La Geste\, 2026
URL:https://francklinol.com/evenement/rencontre-dedicace-au-super-u-labussiere-limoges
LOCATION:LIMOGES Super U Labussière\, 61 avenue Emile Labussière\, LIMOGES\, 87000\, France
ATTACH;FMTTYPE=image/jpeg:https://francklinol.com/wp-content/uploads/2026/02/Limoges-Super-U-2026_03_21.jpg
END:VEVENT
END:VCALENDAR