BEGIN:VCALENDAR
VERSION:2.0
PRODID:-//Franck Linol - ECPv6.15.15//NONSGML v1.0//EN
CALSCALE:GREGORIAN
METHOD:PUBLISH
X-WR-CALNAME:Franck Linol
X-ORIGINAL-URL:https://francklinol.com
X-WR-CALDESC:Évènements pour Franck Linol
REFRESH-INTERVAL;VALUE=DURATION:PT1H
X-Robots-Tag:noindex
X-PUBLISHED-TTL:PT1H
BEGIN:VTIMEZONE
TZID:Europe/Paris
BEGIN:DAYLIGHT
TZOFFSETFROM:+0100
TZOFFSETTO:+0200
TZNAME:CEST
DTSTART:20250330T010000
END:DAYLIGHT
BEGIN:STANDARD
TZOFFSETFROM:+0200
TZOFFSETTO:+0100
TZNAME:CET
DTSTART:20251026T010000
END:STANDARD
BEGIN:DAYLIGHT
TZOFFSETFROM:+0100
TZOFFSETTO:+0200
TZNAME:CEST
DTSTART:20260329T010000
END:DAYLIGHT
BEGIN:STANDARD
TZOFFSETFROM:+0200
TZOFFSETTO:+0100
TZNAME:CET
DTSTART:20261025T010000
END:STANDARD
BEGIN:DAYLIGHT
TZOFFSETFROM:+0100
TZOFFSETTO:+0200
TZNAME:CEST
DTSTART:20270328T010000
END:DAYLIGHT
BEGIN:STANDARD
TZOFFSETFROM:+0200
TZOFFSETTO:+0100
TZNAME:CET
DTSTART:20271031T010000
END:STANDARD
END:VTIMEZONE
BEGIN:VEVENT
DTSTART;TZID=Europe/Paris:20260308T100000
DTEND;TZID=Europe/Paris:20260308T180000
DTSTAMP:20260421T101058
CREATED:20260222T143005Z
LAST-MODIFIED:20260222T143846Z
UID:5750-1772964000-1772992800@francklinol.com
SUMMARY:Foire du Livre de Naves\, 28e édition
DESCRIPTION:Foire du Livre de Naves\, 28e édition\nFranck Linol à la Foire du Livre de Naves\, Sœurs de sang et autres publications . \n  \n \n  \n« Soeurs de sang »\, éditions La Geste\, 2026
URL:https://francklinol.com/evenement/foire-du-livre-de-naves-28-edition
LOCATION:NAVES (19)\, NAVES\, 19460\, France
ATTACH;FMTTYPE=image/jpeg:https://francklinol.com/wp-content/uploads/2026/02/Naves-2026.jpg
END:VEVENT
END:VCALENDAR