BEGIN:VCALENDAR
VERSION:2.0
PRODID:-//Franck Linol - ECPv6.15.15//NONSGML v1.0//EN
CALSCALE:GREGORIAN
METHOD:PUBLISH
X-ORIGINAL-URL:https://francklinol.com
X-WR-CALDESC:Évènements pour Franck Linol
REFRESH-INTERVAL;VALUE=DURATION:PT1H
X-Robots-Tag:noindex
X-PUBLISHED-TTL:PT1H
BEGIN:VTIMEZONE
TZID:Europe/Paris
BEGIN:DAYLIGHT
TZOFFSETFROM:+0100
TZOFFSETTO:+0200
TZNAME:CEST
DTSTART:20250330T010000
END:DAYLIGHT
BEGIN:STANDARD
TZOFFSETFROM:+0200
TZOFFSETTO:+0100
TZNAME:CET
DTSTART:20251026T010000
END:STANDARD
BEGIN:DAYLIGHT
TZOFFSETFROM:+0100
TZOFFSETTO:+0200
TZNAME:CEST
DTSTART:20260329T010000
END:DAYLIGHT
BEGIN:STANDARD
TZOFFSETFROM:+0200
TZOFFSETTO:+0100
TZNAME:CET
DTSTART:20261025T010000
END:STANDARD
BEGIN:DAYLIGHT
TZOFFSETFROM:+0100
TZOFFSETTO:+0200
TZNAME:CEST
DTSTART:20270328T010000
END:DAYLIGHT
BEGIN:STANDARD
TZOFFSETFROM:+0200
TZOFFSETTO:+0100
TZNAME:CET
DTSTART:20271031T010000
END:STANDARD
END:VTIMEZONE
BEGIN:VEVENT
DTSTART;TZID=Europe/Paris:20260227T170000
DTEND;TZID=Europe/Paris:20260227T203000
DTSTAMP:20260421T124342
CREATED:20260209T215920Z
LAST-MODIFIED:20260225T204301Z
UID:5737-1772211600-1772224200@francklinol.com
SUMMARY:Soirée de lancement de "Sœurs de sang" chez Page et Plume
DESCRIPTION:Soirée de lancement de Sœurs de sang\, chez Page et Plume\nDumontel est revenu !… \nRencontre-dédicace avec Franck Linol à l’occasion de la sortie de Sœurs de sang.\nDédicace\, lecture musicale avec René Portella et verre de l’amitié. \n \n  \n 
URL:https://francklinol.com/evenement/soiree-de-lancement-de-soeurs-de-sang-chez-page-et-plume
LOCATION:LIMOGES Librairie Page et Plume\, 4 place de la Motte\, LIMOGES\, 87000\, France
ATTACH;FMTTYPE=image/jpeg:https://francklinol.com/wp-content/uploads/2026/02/Page-et-Plume-Limoges-2026_02_27-Soeurs-de-sang.jpg
END:VEVENT
END:VCALENDAR