BEGIN:VCALENDAR
VERSION:2.0
PRODID:-//Franck Linol - ECPv6.15.15//NONSGML v1.0//EN
CALSCALE:GREGORIAN
METHOD:PUBLISH
X-WR-CALNAME:Franck Linol
X-ORIGINAL-URL:https://francklinol.com
X-WR-CALDESC:Évènements pour Franck Linol
REFRESH-INTERVAL;VALUE=DURATION:PT1H
X-Robots-Tag:noindex
X-PUBLISHED-TTL:PT1H
BEGIN:VTIMEZONE
TZID:Europe/Paris
BEGIN:DAYLIGHT
TZOFFSETFROM:+0100
TZOFFSETTO:+0200
TZNAME:CEST
DTSTART:20250330T010000
END:DAYLIGHT
BEGIN:STANDARD
TZOFFSETFROM:+0200
TZOFFSETTO:+0100
TZNAME:CET
DTSTART:20251026T010000
END:STANDARD
BEGIN:DAYLIGHT
TZOFFSETFROM:+0100
TZOFFSETTO:+0200
TZNAME:CEST
DTSTART:20260329T010000
END:DAYLIGHT
BEGIN:STANDARD
TZOFFSETFROM:+0200
TZOFFSETTO:+0100
TZNAME:CET
DTSTART:20261025T010000
END:STANDARD
BEGIN:DAYLIGHT
TZOFFSETFROM:+0100
TZOFFSETTO:+0200
TZNAME:CEST
DTSTART:20270328T010000
END:DAYLIGHT
BEGIN:STANDARD
TZOFFSETFROM:+0200
TZOFFSETTO:+0100
TZNAME:CET
DTSTART:20271031T010000
END:STANDARD
END:VTIMEZONE
BEGIN:VEVENT
DTSTART;TZID=Europe/Paris:20260222T100000
DTEND;TZID=Europe/Paris:20260222T180000
DTSTAMP:20260421T201012
CREATED:20260209T213319Z
LAST-MODIFIED:20260209T213548Z
UID:5731-1771754400-1771783200@francklinol.com
SUMMARY:Journée du Livre de Saint-Martin-de-Jussac
DESCRIPTION:Journée du Livre de Saint-Martin-de-Jussac\nLes Amis de la bibliothèque nous attendent pour fêter les 30 ans de La Journée du Livre de Saint-Martin-de-Jussac !\n \n  \n  \n  \n  \n  \n  \n  \n 
URL:https://francklinol.com/evenement/journee-du-livre-de-saint-martin-de-jussac
LOCATION:SAINT-MARTIN-DE-JUSSAC\, SAINT MARTIN DE JUSSAC\, 87200\, France
ATTACH;FMTTYPE=image/jpeg:https://francklinol.com/wp-content/uploads/2026/02/St-Martin-de-Jussac-2026-Journee-du-Livre.jpg
END:VEVENT
END:VCALENDAR